 

BEGIN:VCALENDAR
VERSION:2.0
PRODID:-//CiviCRM//NONSGML CiviEvent iCal//EN
X-WR-TIMEZONE:America/New_York
METHOD:PUBLISH
BEGIN:VTIMEZONE
TZID:America/New_York
BEGIN:DAYLIGHT
TZOFFSETFROM:-0400
TZOFFSETTO:-0400
TZNAME:EDT
DTSTART:20260518T183000
END:DAYLIGHT
END:VTIMEZONE
BEGIN:VEVENT
UID:CiviCRM_EventID_11999_14e744cb787c75406e47b70595be41d2@momath.org
SUMMARY:Recording of "Meet a Mathematician: Peter Winkler"
  — Monday\, May 18\, 2026
X-ALT-DESC;FMTTYPE=text/html:<!DOCTYPE HTML PUBLIC
  "-//W3C//DTD HTML 3.2//EN"><html><body><h1 style=
 "text-align:center\;"><b>Recording of </b><strong>
 <i>Meet a Mathematician</i>:<br />\n Peter Winkler
 </strong></h1>\n \n <p style="text-align:center\;"
 ><strong><span style="color:#b30033\;">This is a r
 ecording of a live-streamed event that took place 
 on Monday\, May 18\, 2026.</span></strong></p>\n \
 n <p style="text-align:center\;"><strong>Appropria
 te for all ages.</strong></p>\n \n <p>Join Dr. Art
 hur Benjamin\, MoMath's 2025–2026 Visiting Profess
 or for Public Outreach\, as he welcomes Peter Wink
 ler to the MoMath stage to share his experiences\,
  his story\, and his love of mathematics.</p>\n \n
  <p>To learn about MoMath's policies regarding vid
 eo recordings\, visit <a href="https://videos.moma
 th.org" rel="noreferrer noopener" target="_blank">
 videos.momath.org</a>.</p></body></html>
DESCRIPTION:Recording of Meet a Mathematician:\n \n Peter Wink
 ler\n \n \n This is a recording of a live-streamed
  event that took place on Monday\, May 18\, 2026.\
 n \n \n \n Appropriate for all ages.\n \n \n \n Jo
 in Dr. Arthur Benjamin\, MoMath's 2025–2026 Visiti
 ng Professor for Public Outreach\, as he welcomes 
 Peter Winkler to the MoMath stage to share his exp
 eriences\, his story\, and his love of mathematics
 .\n \n \n \n To learn about MoMath's policies rega
 rding video recordings\, visit videos.momath.org (
 https://videos.momath.org).\n \n 
CATEGORIES:Recording
CALSCALE:GREGORIAN
DTSTAMP;TZID=America/New_York:20260518T183000
DTSTART;TZID=America/New_York:20260518T183000
DTEND;TZID=America/New_York:20260518T183000
LOCATION:United States\n 
URL:https://momath.org/civicrm/event/info/?reset=1&id=11999
END:VEVENT
END:VCALENDAR
