 

BEGIN:VCALENDAR
VERSION:2.0
PRODID:-//CiviCRM//NONSGML CiviEvent iCal//EN
X-WR-TIMEZONE:America/New_York
METHOD:PUBLISH
BEGIN:VTIMEZONE
TZID:America/New_York
BEGIN:DAYLIGHT
TZOFFSETFROM:-0400
TZOFFSETTO:-0400
TZNAME:EDT
DTSTART:20260511T183000
END:DAYLIGHT
END:VTIMEZONE
BEGIN:VEVENT
UID:CiviCRM_EventID_11998_14e744cb787c75406e47b70595be41d2@momath.org
SUMMARY:Recording of "QED\, a conversation about math and 
 math education" — May 11\, 2026
X-ALT-DESC;FMTTYPE=text/html:<!DOCTYPE HTML PUBLIC
  "-//W3C//DTD HTML 3.2//EN"><html><body><h1 style=
 "text-align:center\;"><b>Recording of</b><strong><
 i> QED</i>\, a conversation about<br />\n math and
  math education</strong></h1>\n \n <h2 style="text
 -align:center\;"><strong>Hosted by Dr. Arthur Benj
 amin<br />\n with special guest Sam Vandervalde</s
 trong></h2>\n \n <p style="text-align:center\;"><s
 trong><span style="color:#b30033\;">This is a reco
 rding of a live-streamed event that took place on 
 May 11\, 2026.</span></strong></p>\n \n <p style="
 text-align:center\;"><strong>Appropriate for paren
 ts.</strong></p>\n \n <p>Join Dr. Arthur Benjamin\
 , MoMath’s 2025-2026 Visiting Professor for Public
  Outreach\, as he welcomes Sam Vandervalde to the 
 MoMath stage for an engaging conversation about ma
 th and math education.</p>\n \n <p>To learn about 
 MoMath's policies regarding video recordings\, vis
 it <a href="https://videos.momath.org/" rel="noref
 errer noopener" target="_blank">videos.momath.org<
 /a>.</p></body></html>
DESCRIPTION:Recording of QED\, a conversation about\n \n math 
 and math education\n \n \n Hosted by Dr. Arthur Be
 njamin\n \n with special guest Sam Vandervalde\n \
 n \n This is a recording of a live-streamed event 
 that took place on May 11\, 2026.\n \n \n \n Appro
 priate for parents.\n \n \n \n Join Dr. Arthur Ben
 jamin\, MoMath’s 2025-2026 Visiting Professor for 
 Public Outreach\, as he welcomes Sam Vandervalde t
 o the MoMath stage for an engaging conversation ab
 out math and math education.\n \n \n \n To learn a
 bout MoMath's policies regarding video recordings\
 , visit videos.momath.org (https://videos.momath.o
 rg/).\n \n 
CATEGORIES:Recording
CALSCALE:GREGORIAN
DTSTAMP;TZID=America/New_York:20260511T183000
DTSTART;TZID=America/New_York:20260511T183000
DTEND;TZID=America/New_York:20260511T183000
LOCATION:United States\n 
URL:https://momath.org/civicrm/event/info/?reset=1&id=11998
END:VEVENT
END:VCALENDAR
