 

BEGIN:VCALENDAR
VERSION:2.0
PRODID:-//CiviCRM//NONSGML CiviEvent iCal//EN
X-WR-TIMEZONE:America/New_York
METHOD:PUBLISH
BEGIN:VTIMEZONE
TZID:America/New_York
BEGIN:DAYLIGHT
TZOFFSETFROM:-0400
TZOFFSETTO:-0400
TZNAME:EDT
DTSTART:20260504T183000
END:DAYLIGHT
END:VTIMEZONE
BEGIN:VEVENT
UID:CiviCRM_EventID_11972_14e744cb787c75406e47b70595be41d2@momath.org
SUMMARY:Recording of "Starring Math" — May 4\, 2026
X-ALT-DESC;FMTTYPE=text/html:<!DOCTYPE HTML PUBLIC
  "-//W3C//DTD HTML 3.2//EN"><html><body><h1 style=
 "text-align:center\;"><strong><em>Starring Math\, 
 </em>featuring<br />\n <em>Math and Musical Theatr
 e</em><br />\n with Barry Joseph</strong></h1>\n \
 n <h2 style="text-align:center\;"><strong>Hosted b
 y Dr. Arthur Benjamin</strong></h2>\n \n <p style=
 "text-align:center\;"><strong><span style="color:#
 b30033\;">This is a recording of a live-streamed e
 vent that took place on Monday\, May 4\, 2026.</sp
 an></strong></p>\n \n <p>Join host Dr. Arthur Benj
 amin\, MoMath's 2025–2026 Visiting Professor for P
 ublic Outreach\, for an evening featuring <em>Math
  and Musical Theatre</em> ​​​​​with Barry Joseph (
 author of <em>Matching Wits with Sondheim: The Puz
 zles and Games of the Broadway Legend</em>).</p>\n
  \n <p>No advance viewing is necessary for this sp
 ecial <em>Starring Math</em> session.</p>\n \n <p 
 style="text-align:center\;"><strong><span style="c
 olor:#004785\;">_____________</span></strong></p>\
 n \n <p>MoMath’s 2025–2026 Visiting Professor Dr. 
 Arthur Benjamin curates a monthly dive into the ma
 ny ways mathematics inspires — and hides inside — 
 film\, theater\, music\, magic\, juggling\, and mo
 re.  Each session features an hour-long conversati
 on with Dr. Benjamin and special guests.  Some mon
 ths you’ll watch the selected movie or performance
  on your own\, then join a lively discussion\; oth
 er months the performer will appear live\, ready t
 o share insights and answer questions.  Discover h
 ow creative minds weave math into stories\, stagin
 g\, and spectacle\, and leave with fresh ways to s
 ee the connections between performance and mathema
 tics.</p>\n \n <p>To learn about MoMath's policies
  regarding video recordings\, visit <a href="http:
 //videos.momath.org/" rel="noreferrer noopener" ta
 rget="_blank">videos.momath.org</a>.</p></body></h
 tml>
DESCRIPTION:Starring Math\, featuring\n \n Math and Musical Th
 eatre\n \n with Barry Joseph\n \n \n Hosted by Dr.
  Arthur Benjamin\n \n \n This is a recording of a 
 live-streamed event that took place on Monday\, Ma
 y 4\, 2026.\n \n \n \n Join host Dr. Arthur Benjam
 in\, MoMath's 2025–2026 Visiting Professor for Pub
 lic Outreach\, for an evening featuring Math and M
 usical Theatre ​​​​​with Barry Joseph (author of M
 atching Wits with Sondheim: The Puzzles and Games 
 of the Broadway Legend).\n \n \n \n No advance vie
 wing is necessary for this special Starring Math s
 ession.\n \n \n \n _____________\n \n \n \n MoMath
 ’s 2025–2026 Visiting Professor Dr. Arthur Benjami
 n curates a monthly dive into the many ways mathem
 atics inspires — and hides inside — film\, theater
 \, music\, magic\, juggling\, and more.  Each sess
 ion features an hour-long conversation with Dr. Be
 njamin and special guests.  Some months you’ll wat
 ch the selected movie or performance on your own\,
  then join a lively discussion\; other months the 
 performer will appear live\, ready to share insigh
 ts and answer questions.  Discover how creative mi
 nds weave math into stories\, staging\, and specta
 cle\, and leave with fresh ways to see the connect
 ions between performance and mathematics.\n \n \n 
 \n To learn about MoMath's policies regarding vide
 o recordings\, visit videos.momath.org (http://vid
 eos.momath.org/).\n \n 
CATEGORIES:Recording
CALSCALE:GREGORIAN
DTSTAMP;TZID=America/New_York:20260504T183000
DTSTART;TZID=America/New_York:20260504T183000
DTEND;TZID=America/New_York:20260504T183000
LOCATION:United States\n 
URL:https://momath.org/civicrm/event/info/?reset=1&id=11972
END:VEVENT
END:VCALENDAR
