 

BEGIN:VCALENDAR
VERSION:2.0
PRODID:-//CiviCRM//NONSGML CiviEvent iCal//EN
X-WR-TIMEZONE:America/New_York
METHOD:PUBLISH
BEGIN:VTIMEZONE
TZID:America/New_York
BEGIN:DAYLIGHT
TZOFFSETFROM:-0400
TZOFFSETTO:-0400
TZNAME:EDT
DTSTART:20260425T183000
END:DAYLIGHT
END:VTIMEZONE
BEGIN:VEVENT
UID:CiviCRM_EventID_11971_14e744cb787c75406e47b70595be41d2@momath.org
SUMMARY:Recording of "Monthly Mindbenders" — April 25\, 20
 26
X-ALT-DESC;FMTTYPE=text/html:<!DOCTYPE HTML PUBLIC
  "-//W3C//DTD HTML 3.2//EN"><html><body><h1 style=
 "text-align:center\;"><b>Recording of </b><strong>
 <em>Monthly Mindbenders</em></strong></h1>\n \n <h
 2 style="text-align:center\;"><strong>with Peter W
 inkler</strong></h2>\n \n <p style="text-align:cen
 ter\;"><strong><span style="color:#b30033\;">This 
 is a recording of an online event that took place 
 on Saturday\, April 25\, 2026.</span></strong></p>
 \n \n <p style="text-align:center\;"><strong>Appro
 priate for all ages.</strong></p>\n \n <p>Challeng
 e your mind with monthly puzzles submitted by Pete
 r Winkler and shared on YouTube by Grant Sanderson
  (<i>3Blue1Brown</i>).  Each month\, Peter will al
 so host a short Zoom session to explore the soluti
 ons together.  Groups are invited to puzzle togeth
 er and send a photo\; one lucky group each month w
 ill be highlighted online and receive a special gi
 ft from MoMath.  Get together with friends to disc
 uss\, debate\, and solve — then send a fun photo o
 f your puzzle party.  MoMath will post photos onli
 ne and one lucky group each month will be selected
  to receive a special gift from MoMath.</p>\n \n <
 p>If you have not yet checked out March’s puzzle\,
  <a href="https://momath.org/wp-content/uploads/20
 26/04/4.-Monthly-Mindbenders-April-2026.pdf" rel="
 noreferrer noopener" target="_blank">click here</a
 > to view the puzzle\, and <a href="https://www.yo
 utube.com/shorts/4h5BEALuh44" rel="noreferrer noop
 ener" target="_blank"><span style="background-colo
 r:#f1c40f\;">click here</span></a> to watch the vi
 deo introduction by Grant Sanderson (<em>3Blue1Bro
 wn</em>).</p>\n \n <p>To learn about MoMath's poli
 cies regarding video recordings\, visit <a href="h
 ttps://videos.momath.org/" rel="noreferrer noopene
 r" target="_blank">videos.momath.org</a>.</p></bod
 y></html>
DESCRIPTION:Recording of Monthly Mindbenders\n \n \n with Pete
 r Winkler\n \n \n This is a recording of an online
  event that took place on Saturday\, April 25\, 20
 26.\n \n \n \n Appropriate for all ages.\n \n \n \
 n Challenge your mind with monthly puzzles submitt
 ed by Peter Winkler and shared on YouTube by Grant
  Sanderson (3Blue1Brown).  Each month\, Peter will
  also host a short Zoom session to explore the sol
 utions together.  Groups are invited to puzzle tog
 ether and send a photo\; one lucky group each mont
 h will be highlighted online and receive a special
  gift from MoMath.  Get together with friends to d
 iscuss\, debate\, and solve — then send a fun phot
 o of your puzzle party.  MoMath will post photos o
 nline and one lucky group each month will be selec
 ted to receive a special gift from MoMath.\n \n \n
  \n If you have not yet checked out March’s puzzle
 \, click here (https://momath.org/wp-content/uploa
 ds/2026/04/4.-Monthly-Mindbenders-April-2026.pdf) 
 to view the puzzle\, and click here to watch the v
 ideo introduction by Grant Sanderson (3Blue1Brown)
 .\n \n \n \n To learn about MoMath's policies rega
 rding video recordings\, visit videos.momath.org (
 https://videos.momath.org/).\n \n 
CATEGORIES:Recording
CALSCALE:GREGORIAN
DTSTAMP;TZID=America/New_York:20260425T183000
DTSTART;TZID=America/New_York:20260425T183000
DTEND;TZID=America/New_York:20260425T183000
LOCATION:United States\n 
URL:https://momath.org/civicrm/event/info/?reset=1&id=11971
END:VEVENT
END:VCALENDAR
