 

BEGIN:VCALENDAR
VERSION:2.0
PRODID:-//CiviCRM//NONSGML CiviEvent iCal//EN
X-WR-TIMEZONE:America/New_York
METHOD:PUBLISH
BEGIN:VTIMEZONE
TZID:America/New_York
BEGIN:DAYLIGHT
TZOFFSETFROM:-0400
TZOFFSETTO:-0400
TZNAME:EDT
DTSTART:20260607T140000
END:DAYLIGHT
END:VTIMEZONE
BEGIN:VEVENT
UID:CiviCRM_EventID_11960_14e744cb787c75406e47b70595be41d2@momath.org
SUMMARY:6-7 – Sunday\, June 7\, from 2:00 pm to 3:07 pm
X-ALT-DESC;FMTTYPE=text/html:<!DOCTYPE HTML PUBLIC
  "-//W3C//DTD HTML 3.2//EN"><html><body><h1 style=
 "text-align:center\;"><em><strong>6-7</strong></em
 ></h1>\n \n <p style="text-align:center\;"><strong
 >Sunday\, June 7<br />\n 2:00 pm to 3:07 pm<br />\
 n (<span style="color:#b30033\;">in person</span>)
 </strong></p>\n \n <p>Celebrate 6/7 with a special
  67-minute program featuring mathematician Dr. Art
 hur Benjamin.  Dr. Benjamin will open with a brief
  presentation on “<em>The Magic of 6 and 7</em>\,”
  then guests can continue the fun with <em>Connect
  4</em> play on the game’s classic 6-by-7 grid.  T
 his program is free with Museum admission.</p>\n \
 n <p>All registered children under 16 must be acco
 mpanied by a registered (paying) adult.  MoMath re
 serves the right to refuse event admission without
  refund or credit to children under 16 without an 
 adult chaperone.</p></body></html>
DESCRIPTION:6-7\n \n \n Sunday\, June 7\n \n 2:00 pm to 3:07 p
 m\n \n (in person)\n \n \n \n Celebrate 6/7 with a
  special 67-minute program featuring mathematician
  Dr. Arthur Benjamin.  Dr. Benjamin will open with
  a brief presentation on “The Magic of 6 and 7\,” 
 then guests can continue the fun with Connect 4 pl
 ay on the game’s classic 6-by-7 grid.  This progra
 m is free with Museum admission.\n \n \n \n All re
 gistered children under 16 must be accompanied by 
 a registered (paying) adult.  MoMath reserves the 
 right to refuse event admission without refund or 
 credit to children under 16 without an adult chape
 rone.\n \n 
CATEGORIES:Museum Event
CALSCALE:GREGORIAN
DTSTAMP;TZID=America/New_York:20260607T140000
DTSTART;TZID=America/New_York:20260607T140000
DTEND;TZID=America/New_York:20260607T150700
LOCATION:635 Sixth Avenue\n New York\, 10011\n United State
 s\n 
URL:https://momath.org/civicrm/event/info/?reset=1&id=11960
END:VEVENT
END:VCALENDAR
